BEGIN:VCALENDAR
VERSION:2.0
PRODID:-//hacksw/handcal//NONSGML v1.0//EN
BEGIN:VEVENT
DTSTART:20201104T183000
DTEND:20201104T200000
LOCATION:https://zoom.us/j/98548875875?pwd=Z2FnMXhxQjhGNVFLZlZYTlE1bCtpUT09
ORGANIZER;CN=Insertion Professionnelle:MAILTO:insertion.professionnelle@sciencespo-lille.eu
SUMMARY:[WEBINAIRE] Forum des concours - Jour 3 : Concours de la Fonction publique d'Etat
DESCRIPTION:Code d'accès du webinar 280061...
URL:https://alumni.sciencespo-lille.eu/fr/event/-webinaire-forum-des-concours-jour-3-concours-de-la-fonction-publique-d-etat/2020/11/04/71
BEGIN:VALARM
TRIGGER:-P0DT1H0M0S
ACTION:DISPLAY
END:VALARM
END:VEVENT
END:VCALENDAR