BEGIN:VCALENDAR
VERSION:2.0
PRODID:-//hacksw/handcal//NONSGML v1.0//EN
BEGIN:VEVENT
DTSTART:20201020T183000
DTEND:20201020T200000
LOCATION:https://zoom.us/j/99779647274?pwd=NmZ3TXRMZUVDWGNYanFFcEpaU2Jkdz09
ORGANIZER;CN=Insertion Professionnelle:MAILTO:insertion.professionnelle@sciencespo-lille.eu
SUMMARY:[WEBINAIRE] Conférence : Les métiers du secteur sanitaire et social
DESCRIPTION:Code d'accès du webinar 062531...
URL:https://alumni.sciencespo-lille.eu/fr/event/-webinaire-conference-les-metiers-du-secteur-sanitaire-et-social/2020/10/20/62
BEGIN:VALARM
TRIGGER:-P0DT1H0M0S
ACTION:DISPLAY
END:VALARM
END:VEVENT
END:VCALENDAR