BEGIN:VCALENDAR
VERSION:2.0
PRODID:-//hacksw/handcal//NONSGML v1.0//EN
BEGIN:VEVENT
DTSTART:20200929T183000
DTEND:20200929T200000
LOCATION:https://zoom.us/j/93931232620?pwd=MFpWTjFPVkJ6bm9jL2xFN0ROV0k5Zz09
ORGANIZER;CN=Insertion Professionnelle:MAILTO:insertion.professionnelle@sciencespo-lille.eu
SUMMARY:[WEBINAIRE] Conférence : Les métiers de la finance après Sciences Po Lille
DESCRIPTION:Code d'accès du webinar 938246...
URL:https://alumni.sciencespo-lille.eu/fr/event/-webinaire-conference-les-metiers-de-la-finance-apres-sciences-po-lille/2020/09/29/58
BEGIN:VALARM
TRIGGER:-P0DT1H0M0S
ACTION:DISPLAY
END:VALARM
END:VEVENT
END:VCALENDAR