BEGIN:VCALENDAR
VERSION:2.0
PRODID:-//hacksw/handcal//NONSGML v1.0//EN
BEGIN:VEVENT
DTSTART:20250315T094500
DTEND:20250315T160000
LOCATION:Sciences Po Lille \n9, Rue Auguste Angellier \n59000 LILLE
ORGANIZER;CN=Omayma AL MASSATI:MAILTO:omayma.almassati@sciencespo-lille.eu
SUMMARY:Simulations d'entretiens de recrutement avec l'Association des Alumni
DESCRIPTION:Préparez vos futurs entretiens avec les diplômées, diplômés ! INSCRIPTION DU LUNDI 24 FÉVRIER AU MERCREDI 05 MARS 2025.L'Association des Alumni de Sciences Po Lille, en partenariat avec l'équipe de...
URL:https://alumni.sciencespo-lille.eu/fr/event/simulations-d-entretiens-de-recrutement-avec-l-association-des-alumni/2025/03/15/458
BEGIN:VALARM
TRIGGER:-P0DT1H0M0S
ACTION:DISPLAY
END:VALARM
END:VEVENT
END:VCALENDAR