BEGIN:VCALENDAR
VERSION:2.0
PRODID:-//hacksw/handcal//NONSGML v1.0//EN
BEGIN:VEVENT
DTSTART:20210331T183000
DTEND:20210331T200000
LOCATION:https://sciencespo-lille-eu.zoom.us/j/91560341023?pwd=ckN1dndpbVJDbkdIM1UzY2hPTWFIUT09
ORGANIZER;CN=Insertion Professionnelle:MAILTO:insertion.professionnelle@sciencespo-lille.eu
SUMMARY:[WEBINAIRE] Conférence : L’Europe depuis la France
DESCRIPTION:Code d'accès du webinar 262857...
URL:https://alumni.sciencespo-lille.eu/fr/event/-webinaire-conference-l-europe-depuis-la-france/2021/03/31/111
BEGIN:VALARM
TRIGGER:-P0DT1H0M0S
ACTION:DISPLAY
END:VALARM
END:VEVENT
END:VCALENDAR