BEGIN:VCALENDAR
VERSION:2.0
PRODID:-//hacksw/handcal//NONSGML v1.0//EN
BEGIN:VEVENT
DTSTART:20210310T183000
DTEND:20210310T200000
LOCATION:https://sciencespo-lille-eu.zoom.us/j/91236204651?pwd=RjJUbXl3bUFROG9ZR3NLaHFxamRLUT09
ORGANIZER;CN=Insertion Professionnelle:MAILTO:insertion.professionnelle@sciencespo-lille.eu
SUMMARY:[SEMAINE EGALITE DE GENRE] Webconférence : L'égalité professionnelle en tout genre
DESCRIPTION:Code d'accès du webinar 816529...
URL:https://alumni.sciencespo-lille.eu/fr/event/-semaine-egalite-de-genre-webconference-l-egalite-professionnelle-en-tout-genre/2021/03/10/104
BEGIN:VALARM
TRIGGER:-P0DT1H0M0S
ACTION:DISPLAY
END:VALARM
END:VEVENT
END:VCALENDAR