BEGIN:VCALENDAR
VERSION:2.0
PRODID:-//hacksw/handcal//NONSGML v1.0//EN
BEGIN:VEVENT
DTSTART:20201027T183000
DTEND:20201027T200000
LOCATION:https://zoom.us/j/92080112558?pwd=RTNOY2RKa3RCQmpGTktTOWExZE9GQT09
ORGANIZER;CN=Insertion Professionnelle:MAILTO:insertion.professionnelle@sciencespo-lille.eu
SUMMARY:[WEBINAIRE] Conférence : Cybersécurité et gestion des risques
DESCRIPTION:Webinar access code 488923...
URL:https://alumni.sciencespo-lille.eu/en/event/-webinaire-conference-cybersecurite-et-gestion-des-risques/2020/10/27/63
BEGIN:VALARM
TRIGGER:-P0DT1H0M0S
ACTION:DISPLAY
END:VALARM
END:VEVENT
END:VCALENDAR